BEGIN:VCALENDAR
VERSION:2.0
PRODID:-//1. Privilegierte Schützengesellschaft Bocka/ Pöppschen e.V.//NONS
 GML kigkonsult.se iCalcreator 2.30.10//
CALSCALE:GREGORIAN
METHOD:PUBLISH
UID:78fbc295-3bd2-4912-93bb-ca1b39ad0917
X-WR-CALNAME:iCagenda
X-WR-CALDESC:Event Management Extension for Joomla!
X-WR-RELCALID:3E26604A-50F4-4449-8B3E-E4F4932D05B5
X-WR-TIMEZONE:UTC
BEGIN:VTIMEZONE
TZID:UTC
END:VTIMEZONE
BEGIN:VEVENT
UID:cdfb13fb-7993-460f-a15b-0c066ae4ac26
DTSTAMP:20260422T144833Z
CATEGORIES:Wettkämpfe
CLASS:PUBLIC
DESCRIPTION:
DTSTART:20250215T090000Z
DTEND:20250215T130000Z
GEO:00;0
LOCATION:Vereinshaus Pöppschen
ORGANIZER:
SEQUENCE:1
SUMMARY:Distanzschiessen
TRANSP:OPAQUE
URL:https://sg-bocka-ev.de/component/icagenda/12-distanzschiessen/2025-02-1
 5-09-00?Itemid=101
END:VEVENT
END:VCALENDAR
