BEGIN:VCALENDAR
VERSION:2.0
PRODID:-//1. Privilegierte Schützengesellschaft Bocka/ Pöppschen e.V.//NONS
 GML kigkonsult.se iCalcreator 2.30.10//
CALSCALE:GREGORIAN
METHOD:PUBLISH
UID:fb8f712f-7cf0-4545-9f49-db5763db2db6
X-WR-CALNAME:iCagenda
X-WR-CALDESC:Event Management Extension for Joomla!
X-WR-RELCALID:3E26604A-50F4-4449-8B3E-E4F4932D05B5
X-WR-TIMEZONE:UTC
BEGIN:VTIMEZONE
TZID:UTC
END:VTIMEZONE
BEGIN:VEVENT
UID:e90479f9-2838-4696-9932-f97a46b350cf
DTSTAMP:20260422T132046Z
CATEGORIES:Versammlungen
CLASS:PUBLIC
DESCRIPTION:
DTSTART:20250305T173000Z
DTEND:20250305T190000Z
GEO:00;0
LOCATION:Vereinshaus Pöppschen
ORGANIZER:
SEQUENCE:1
SUMMARY:Mitgliederversammlung
TRANSP:OPAQUE
URL:https://sg-bocka-ev.de/component/icagenda/13-mitgliederversammlung?Item
 id=101
END:VEVENT
END:VCALENDAR
