BEGIN:VCALENDAR
VERSION:2.0
PRODID:-//1. Privilegierte Schützengesellschaft Bocka/ Pöppschen e.V.//NONS
 GML kigkonsult.se iCalcreator 2.30.10//
CALSCALE:GREGORIAN
METHOD:PUBLISH
UID:94ee9761-d8d8-44c0-a1f2-d295018cdb98
X-WR-CALNAME:iCagenda
X-WR-CALDESC:Event Management Extension for Joomla!
X-WR-RELCALID:3E26604A-50F4-4449-8B3E-E4F4932D05B5
X-WR-TIMEZONE:UTC
BEGIN:VTIMEZONE
TZID:UTC
END:VTIMEZONE
BEGIN:VEVENT
UID:10d7b8b7-f1c9-44ab-973f-7000d606ca3a
DTSTAMP:20260422T112247Z
CATEGORIES:Wettkämpfe
CLASS:PUBLIC
DESCRIPTION:
DTSTART:20250412T090000Z
DTEND:20250412T130000Z
GEO:00;0
LOCATION:Vereinshaus Pöppschen
ORGANIZER:
SEQUENCE:1
SUMMARY:Osterschiessen
TRANSP:OPAQUE
URL:https://sg-bocka-ev.de/component/icagenda/14-osterschiessen-2?Itemid=10
 1
END:VEVENT
END:VCALENDAR
