BEGIN:VCALENDAR
VERSION:2.0
PRODID:-//1. Privilegierte Schützengesellschaft Bocka/ Pöppschen e.V.//NONS
 GML kigkonsult.se iCalcreator 2.30.10//
CALSCALE:GREGORIAN
METHOD:PUBLISH
UID:0adeba5a-5468-4d78-b454-1a3bee697c19
X-WR-CALNAME:iCagenda
X-WR-CALDESC:Event Management Extension for Joomla!
X-WR-RELCALID:3E26604A-50F4-4449-8B3E-E4F4932D05B5
X-WR-TIMEZONE:UTC
BEGIN:VTIMEZONE
TZID:UTC
END:VTIMEZONE
BEGIN:VEVENT
UID:04b3e658-e649-434f-8cfa-381737625ee2
DTSTAMP:20260422T171803Z
CATEGORIES:Sommerpause
CLASS:PUBLIC
DESCRIPTION:
DTSTART:20250701T000000Z
DTEND:20250731T000000Z
GEO:00;0
LOCATION:
ORGANIZER:
SEQUENCE:1
SUMMARY:Sommerpause
TRANSP:OPAQUE
URL:https://sg-bocka-ev.de/component/icagenda/16-sommerpause-3?Itemid=101
END:VEVENT
END:VCALENDAR
