BEGIN:VCALENDAR
VERSION:2.0
PRODID:-//1. Privilegierte Schützengesellschaft Bocka/ Pöppschen e.V.//NONS
 GML kigkonsult.se iCalcreator 2.30.10//
CALSCALE:GREGORIAN
METHOD:PUBLISH
UID:7cca6b01-1e9c-43c2-a27c-46aca56c4332
X-WR-CALNAME:iCagenda
X-WR-CALDESC:Event Management Extension for Joomla!
X-WR-RELCALID:3E26604A-50F4-4449-8B3E-E4F4932D05B5
X-WR-TIMEZONE:UTC
BEGIN:VTIMEZONE
TZID:UTC
END:VTIMEZONE
BEGIN:VEVENT
UID:6b488b3f-f8cf-4bc7-8c9b-f30fd7cf6047
DTSTAMP:20260422T203950Z
CATEGORIES:Wettkämpfe
CLASS:PUBLIC
DESCRIPTION:
DTSTART:20250913T090000Z
DTEND:20250913T130000Z
GEO:00;0
LOCATION:Vereinshaus Pöppschen
ORGANIZER:
SEQUENCE:1
SUMMARY:Königsschiessen
TRANSP:OPAQUE
URL:https://sg-bocka-ev.de/component/icagenda/17-koenigsschiessen-2?Itemid=
 101
END:VEVENT
END:VCALENDAR
