BEGIN:VCALENDAR
VERSION:2.0
PRODID:-//1. Privilegierte Schützengesellschaft Bocka/ Pöppschen e.V.//NONS
 GML kigkonsult.se iCalcreator 2.30.10//
CALSCALE:GREGORIAN
METHOD:PUBLISH
UID:8788b829-4496-47a6-9c36-2e413ceed3c8
X-WR-CALNAME:iCagenda
X-WR-CALDESC:Event Management Extension for Joomla!
X-WR-RELCALID:3E26604A-50F4-4449-8B3E-E4F4932D05B5
X-WR-TIMEZONE:UTC
BEGIN:VTIMEZONE
TZID:UTC
END:VTIMEZONE
BEGIN:VEVENT
UID:3434e431-3d10-4076-b38a-2c3aa46e6279
DTSTAMP:20260422T182926Z
CATEGORIES:Wettkämpfe
CLASS:PUBLIC
DESCRIPTION:
DTSTART:20251213T090000Z
DTEND:20251213T130000Z
GEO:00;0
LOCATION:Vereinshaus Pöppschen
ORGANIZER:
SEQUENCE:1
SUMMARY:Weihnachtsschiessen
TRANSP:OPAQUE
URL:https://sg-bocka-ev.de/component/icagenda/18-weihnachtsschiessen-3?Item
 id=101
END:VEVENT
END:VCALENDAR
