BEGIN:VCALENDAR
VERSION:2.0
PRODID:-//1. Privilegierte Schützengesellschaft Bocka/ Pöppschen e.V.//NONS
 GML kigkonsult.se iCalcreator 2.30.10//
CALSCALE:GREGORIAN
METHOD:PUBLISH
UID:230e55ef-09ec-4255-98e1-ddafd42237b2
X-WR-CALNAME:iCagenda
X-WR-CALDESC:Event Management Extension for Joomla!
X-WR-RELCALID:3E26604A-50F4-4449-8B3E-E4F4932D05B5
X-WR-TIMEZONE:UTC
BEGIN:VTIMEZONE
TZID:UTC
END:VTIMEZONE
BEGIN:VEVENT
UID:9947321c-d8ea-43f2-a527-e129aafa38e7
DTSTAMP:20260422T222256Z
CATEGORIES:Wettkämpfe
CLASS:PUBLIC
DESCRIPTION:
DTSTART:20251025T090000Z
DTEND:20251025T130000Z
GEO:00;0
LOCATION:Vereinshaus Pöppschen
ORGANIZER:
SEQUENCE:1
SUMMARY:Vereinsmeisterschaft
TRANSP:OPAQUE
URL:https://sg-bocka-ev.de/component/icagenda/19-vereinsmeisterschaft-3?Ite
 mid=101
END:VEVENT
END:VCALENDAR
